BEGIN:VCALENDAR
VERSION:2.0
PRODID:-//The CoVersion - ECPv6.15.20//NONSGML v1.0//EN
CALSCALE:GREGORIAN
METHOD:PUBLISH
X-WR-CALNAME:The CoVersion
X-ORIGINAL-URL:https://thecoversion.de
X-WR-CALDESC:Veranstaltungen für The CoVersion
REFRESH-INTERVAL;VALUE=DURATION:PT1H
X-Robots-Tag:noindex
X-PUBLISHED-TTL:PT1H
BEGIN:VTIMEZONE
TZID:Europe/Berlin
BEGIN:DAYLIGHT
TZOFFSETFROM:+0100
TZOFFSETTO:+0200
TZNAME:CEST
DTSTART:20180325T010000
END:DAYLIGHT
BEGIN:STANDARD
TZOFFSETFROM:+0200
TZOFFSETTO:+0100
TZNAME:CET
DTSTART:20181028T010000
END:STANDARD
BEGIN:DAYLIGHT
TZOFFSETFROM:+0100
TZOFFSETTO:+0200
TZNAME:CEST
DTSTART:20190331T010000
END:DAYLIGHT
BEGIN:STANDARD
TZOFFSETFROM:+0200
TZOFFSETTO:+0100
TZNAME:CET
DTSTART:20191027T010000
END:STANDARD
BEGIN:DAYLIGHT
TZOFFSETFROM:+0100
TZOFFSETTO:+0200
TZNAME:CEST
DTSTART:20200329T010000
END:DAYLIGHT
BEGIN:STANDARD
TZOFFSETFROM:+0200
TZOFFSETTO:+0100
TZNAME:CET
DTSTART:20201025T010000
END:STANDARD
BEGIN:DAYLIGHT
TZOFFSETFROM:+0100
TZOFFSETTO:+0200
TZNAME:CEST
DTSTART:20210328T010000
END:DAYLIGHT
BEGIN:STANDARD
TZOFFSETFROM:+0200
TZOFFSETTO:+0100
TZNAME:CET
DTSTART:20211031T010000
END:STANDARD
BEGIN:DAYLIGHT
TZOFFSETFROM:+0100
TZOFFSETTO:+0200
TZNAME:CEST
DTSTART:20220327T010000
END:DAYLIGHT
BEGIN:STANDARD
TZOFFSETFROM:+0200
TZOFFSETTO:+0100
TZNAME:CET
DTSTART:20221030T010000
END:STANDARD
BEGIN:DAYLIGHT
TZOFFSETFROM:+0100
TZOFFSETTO:+0200
TZNAME:CEST
DTSTART:20230326T010000
END:DAYLIGHT
BEGIN:STANDARD
TZOFFSETFROM:+0200
TZOFFSETTO:+0100
TZNAME:CET
DTSTART:20231029T010000
END:STANDARD
BEGIN:DAYLIGHT
TZOFFSETFROM:+0100
TZOFFSETTO:+0200
TZNAME:CEST
DTSTART:20240331T010000
END:DAYLIGHT
BEGIN:STANDARD
TZOFFSETFROM:+0200
TZOFFSETTO:+0100
TZNAME:CET
DTSTART:20241027T010000
END:STANDARD
BEGIN:DAYLIGHT
TZOFFSETFROM:+0100
TZOFFSETTO:+0200
TZNAME:CEST
DTSTART:20250330T010000
END:DAYLIGHT
BEGIN:STANDARD
TZOFFSETFROM:+0200
TZOFFSETTO:+0100
TZNAME:CET
DTSTART:20251026T010000
END:STANDARD
BEGIN:DAYLIGHT
TZOFFSETFROM:+0100
TZOFFSETTO:+0200
TZNAME:CEST
DTSTART:20260329T010000
END:DAYLIGHT
BEGIN:STANDARD
TZOFFSETFROM:+0200
TZOFFSETTO:+0100
TZNAME:CET
DTSTART:20261025T010000
END:STANDARD
END:VTIMEZONE
BEGIN:VEVENT
DTSTART;TZID=Europe/Berlin:20251108T200000
DTEND;TZID=Europe/Berlin:20251108T200000
DTSTAMP:20260420T145338
CREATED:20251102T223640Z
LAST-MODIFIED:20251102T224520Z
UID:1545-1762632000-1762632000@thecoversion.de
SUMMARY:Rick's Café - Restaurant & Sportsbar
DESCRIPTION:
URL:https://thecoversion.de/event/ricks-cafe-restaurant-sportsbar/
LOCATION:Rick’s Café\, Melanchthonstraße 100\, Bretten\, 75015\, Germany
CATEGORIES:Termine
ATTACH;FMTTYPE=image/jpeg:https://thecoversion.de/wp-content/uploads/2025/11/WhatsApp-Image-2025-10-23-at-23.53.35.jpeg
END:VEVENT
BEGIN:VEVENT
DTSTART;TZID=Europe/Berlin:20251102T200000
DTEND;TZID=Europe/Berlin:20251102T200000
DTSTAMP:20260420T145338
CREATED:20251102T223058Z
LAST-MODIFIED:20251102T224543Z
UID:1537-1762113600-1762113600@thecoversion.de
SUMMARY:Shortplay Festival 2025
DESCRIPTION:
URL:https://thecoversion.de/event/shortplay-festival-2025/
ATTACH;FMTTYPE=image/jpeg:https://thecoversion.de/wp-content/uploads/2025/11/Screenshot-2025-11-02-233038.jpg
END:VEVENT
BEGIN:VEVENT
DTSTART;TZID=Europe/Berlin:20250920T200000
DTEND;TZID=Europe/Berlin:20250920T200000
DTSTAMP:20260420T145338
CREATED:20251102T223412Z
LAST-MODIFIED:20251102T224558Z
UID:1540-1758398400-1758398400@thecoversion.de
SUMMARY:Open House - Strong Arm of the Law MC
DESCRIPTION:
URL:https://thecoversion.de/event/open-house-strong-arm-of-the-law-mc/
LOCATION:Strong Arm of the Law MC\, Robert-Bosch-Ring 19\, Flehingen\, 75038\, Germany
ATTACH;FMTTYPE=image/jpeg:https://thecoversion.de/wp-content/uploads/2025/11/WhatsApp-Image-2025-08-29-at-20.14.26.jpeg
END:VEVENT
BEGIN:VEVENT
DTSTART;TZID=Europe/Berlin:20240706T173000
DTEND;TZID=Europe/Berlin:20240706T233000
DTSTAMP:20260420T145338
CREATED:20240402T003823Z
LAST-MODIFIED:20240705T215337Z
UID:1514-1720287000-1720308600@thecoversion.de
SUMMARY:Stein Bruch Wiesenfest 2024
DESCRIPTION:
URL:https://thecoversion.de/event/stein-bruch-wiesenfest-2024/
LOCATION:Steinbruch Wiesen\, 48.9300845\,8.5524883
ATTACH;FMTTYPE=image/jpeg:https://thecoversion.de/wp-content/uploads/2024/04/434071386_10222860925864635_3033430839628856422_n.jpg
END:VEVENT
BEGIN:VEVENT
DTSTART;TZID=Europe/Berlin:20231125T210000
DTEND;TZID=Europe/Berlin:20231219T020000
DTSTAMP:20260420T145338
CREATED:20231218T231012Z
LAST-MODIFIED:20231218T231012Z
UID:1502-1700946000-1702951200@thecoversion.de
SUMMARY:Rock im Parka 2023
DESCRIPTION:
URL:https://thecoversion.de/event/rock-im-parka-2023/
ATTACH;FMTTYPE=image/jpeg:https://thecoversion.de/wp-content/uploads/2023/12/WhatsApp-Image-2023-08-12-at-07.32.50.jpeg
END:VEVENT
BEGIN:VEVENT
DTSTART;TZID=Europe/Berlin:20231028T220000
DTEND;TZID=Europe/Berlin:20231220T003000
DTSTAMP:20260420T145338
CREATED:20231218T230134Z
LAST-MODIFIED:20231218T230538Z
UID:1495-1698530400-1703032200@thecoversion.de
SUMMARY:Shortplay Festival 2023
DESCRIPTION:
URL:https://thecoversion.de/event/shortplay-festival-2023/
LOCATION:Kulturhaus Osterfeld\, Osterfeldstraße 12\, 75172 Pforzheim
ATTACH;FMTTYPE=image/jpeg:https://thecoversion.de/wp-content/uploads/2023/12/WhatsApp-Image-2023-10-24-at-17.53.03.jpeg
END:VEVENT
BEGIN:VEVENT
DTSTART;TZID=Europe/Berlin:20230722T220000
DTEND;TZID=Europe/Berlin:20230723T013000
DTSTAMP:20260420T145338
CREATED:20231218T231535Z
LAST-MODIFIED:20231218T231535Z
UID:1505-1690063200-1690075800@thecoversion.de
SUMMARY:Sommerfest TV Ersingen 2023
DESCRIPTION:
URL:https://thecoversion.de/event/sommerfest-tv-ersingen-2023/
LOCATION:TV Ersingen 1886 e.V.
ATTACH;FMTTYPE=image/jpeg:https://thecoversion.de/wp-content/uploads/2023/12/WhatsApp-Image-2023-07-14-at-07.10.39.jpeg
END:VEVENT
BEGIN:VEVENT
DTSTART;TZID=Europe/Berlin:20221218T210000
DTEND;TZID=Europe/Berlin:20231219T003000
DTSTAMP:20260420T145338
CREATED:20231218T225840Z
LAST-MODIFIED:20231218T225949Z
UID:1492-1671397200-1702945800@thecoversion.de
SUMMARY:Shortplay Festival 2022
DESCRIPTION:
URL:https://thecoversion.de/event/shortplay-festival-2022/
LOCATION:Kulturhaus Osterfeld\, Osterfeldstraße 12\, 75172 Pforzheim
END:VEVENT
BEGIN:VEVENT
DTSTART;TZID=Europe/Berlin:20220626T220000
DTEND;TZID=Europe/Berlin:20231220T003000
DTSTAMP:20260420T145338
CREATED:20231218T231718Z
LAST-MODIFIED:20231218T231924Z
UID:1510-1656280800-1703032200@thecoversion.de
SUMMARY:Sommerfest TV Ersingen 2022
DESCRIPTION:
URL:https://thecoversion.de/event/sommerfest-tv-ersingen-2022/
LOCATION:TV Ersingen 1886 e.V.
END:VEVENT
BEGIN:VEVENT
DTSTART;TZID=Europe/Berlin:20191210T210000
DTEND;TZID=Europe/Berlin:20231219T003000
DTSTAMP:20260420T145338
CREATED:20231218T225331Z
LAST-MODIFIED:20231218T225859Z
UID:1485-1576011600-1702945800@thecoversion.de
SUMMARY:Shortplay Festival 2019
DESCRIPTION:
URL:https://thecoversion.de/event/shortplay-festival-2019/
LOCATION:Kulturhaus Osterfeld\, Osterfeldstraße 12\, 75172 Pforzheim
END:VEVENT
END:VCALENDAR